BEGIN:VCALENDAR
VERSION:2.0
PRODID:-//chikkutakku.com//RDFCal 1.0//EN
X-WR-CALDESC:GoogleカレンダーやiCalendar形式情報を共有シェ
 アしましょう。近所のイベントから全国のイベントま
 で今日のイベント検索やスケジュールを決めるならち
 っくたっく
X-WR-CALNAME:ちっくたっく
X-WR-TIMEZONE:UTC
BEGIN:VEVENT
SUMMARY:Bear 與大學生聊天
DTSTART;VALUE=DATE-TIME:20260424T083000Z
DTEND;VALUE=DATE-TIME:20260424T093000Z
UID:224264820088
DESCRIPTION:Bear 與大學生聊天
LOCATION:Coffee room
END:VEVENT
END:VCALENDAR
