BEGIN:VCALENDAR
VERSION:2.0
PRODID:-//chikkutakku.com//RDFCal 1.0//EN
X-WR-CALDESC:GoogleカレンダーやiCalendar形式情報を共有シェ
 アしましょう。近所のイベントから全国のイベントま
 で今日のイベント検索やスケジュールを決めるならち
 っくたっく
X-WR-CALNAME:ちっくたっく
X-WR-TIMEZONE:UTC
BEGIN:VEVENT
SUMMARY:Xi Chun-li (Terra Formars) at http://img1.wikia.nocookie.net/__cb2
 0140330141622/terraformars/images/thumb/8/86/Xi.png/300px-Xi.png
DTSTART;VALUE=DATE-TIME:20260517T140000Z
DTEND;VALUE=DATE-TIME:20260518T140000Z
UID:224276056628
DESCRIPTION:Xi Chun-li (Terra Formars) at http://img1.wikia.nocookie.net/_
 _cb20140330141622/terraformars/images/thumb/8/86/Xi.png/300px-Xi.png
LOCATION:http://img1.wikia.nocookie.net/__cb20140330141622/terraformars/im
 ages/thumb/8/86/Xi.png/300px-Xi.png 
END:VEVENT
END:VCALENDAR
