BEGIN:VCALENDAR
VERSION:2.0
PRODID:-//chikkutakku.com//RDFCal 1.0//EN
X-WR-CALDESC:GoogleカレンダーやiCalendar形式情報を共有シェ
 アしましょう。近所のイベントから全国のイベントま
 で今日のイベント検索やスケジュールを決めるならち
 っくたっく
X-WR-CALNAME:ちっくたっく
X-WR-TIMEZONE:UTC
BEGIN:VEVENT
SUMMARY:Unified Partners  Sectional track meet @ Williams's Field High Sch
 ool 
DTSTART;VALUE=DATE:20260421
DTEND;VALUE=DATE:20260422
UID:224818896683
DESCRIPTION:Unified Partners  Sectional track meet @ Williams's Field High
  School 
LOCATION:Williams Field High School\, 2076 S Higley Rd\, Gilbert\, AZ 8529
 5\, USA
END:VEVENT
END:VCALENDAR
