BEGIN:VCALENDAR
VERSION:2.0
PRODID:-//chikkutakku.com//RDFCal 1.0//EN
X-WR-CALDESC:GoogleカレンダーやiCalendar形式情報を共有シェ
 アしましょう。近所のイベントから全国のイベントま
 で今日のイベント検索やスケジュールを決めるならち
 っくたっく
X-WR-CALNAME:ちっくたっく
X-WR-TIMEZONE:UTC
BEGIN:VEVENT
SUMMARY:VRCアリミリ誕生日集会！
DTSTART;VALUE=DATE-TIME:20260423T120000Z
DTEND;VALUE=DATE-TIME:20260423T130000Z
UID:224823232740
DESCRIPTION:【イベント主催者】\n　STEINS_シュタインズ\n【
 イベント内容】\n　CoeFontオリジナルキャラクターのア
 リアル、ミリアルのお誕生日を一緒にお祝いしましょ
 う！特設の誕生日ワールドで観覧・写真撮影をしたの
 ち、人数が集まればゲームワールドに移動したいと思
 います。22時ごろには自由解散といたします。\n【イベ
 ントジャンル】\n　改変アバター交流会\, その他交流会
 \n【参加条件（モデル、人数制限など）】\n　アリアル
 、ミリアルアバター推奨！(他のアバターでもアリミリ
 が好きならオッケーです！)\n【参加方法】\n　主催【STE
 INS_シュタインズ】にフレンド申請、時間になったらJOIN
 ！\n【備考】\n　イベントの様子を動画(音声なし)とし
 て撮影させていただきます。
LOCATION:
END:VEVENT
END:VCALENDAR
