BEGIN:VCALENDAR
VERSION:2.0
PRODID:-//chikkutakku.com//RDFCal 1.0//EN
X-WR-CALDESC:GoogleカレンダーやiCalendar形式情報を共有シェ
 アしましょう。近所のイベントから全国のイベントま
 で今日のイベント検索やスケジュールを決めるならち
 っくたっく
X-WR-CALNAME:ちっくたっく
X-WR-TIMEZONE:UTC
BEGIN:VEVENT
SUMMARY:知識ゼロでも週３０００円の投資で１００万円が
 勝手に貯まる本
DTSTART;VALUE=DATE:20260422
DTEND;VALUE=DATE:20260423
UID:224836706499
DESCRIPTION:2026-04-23知識ゼロでも週３０００円の投資で１
 ００万円が勝手に貯まる本藤川里絵小学館
LOCATION:
END:VEVENT
END:VCALENDAR
