BEGIN:VCALENDAR
VERSION:2.0
PRODID:-//chikkutakku.com//RDFCal 1.0//EN
X-WR-CALDESC:GoogleカレンダーやiCalendar形式情報を共有シェ
 アしましょう。近所のイベントから全国のイベントま
 で今日のイベント検索やスケジュールを決めるならち
 っくたっく
X-WR-CALNAME:ちっくたっく
X-WR-TIMEZONE:UTC
BEGIN:VEVENT
SUMMARY:Mor Barses of Edessa +378
DTSTART;VALUE=DATE:20260519
DTEND;VALUE=DATE:20260520
UID:224959833604
DESCRIPTION:Mar Barses the bishop of Edessa +378.\n\nHe was the bishop of 
 Harran but was moved by Emperor Constantius II to the diocese of Edessa. H
 e was persecuted by Valens for upholding the Orthodox faith against Ariani
 sm\, and was exiled.\n\nCommemorated annually on the Wednesday before Pent
 ecost.\n\nBL14504
LOCATION:
END:VEVENT
END:VCALENDAR
