BEGIN:VCALENDAR
VERSION:2.0
PRODID:-//chikkutakku.com//RDFCal 1.0//EN
X-WR-CALDESC:GoogleカレンダーやiCalendar形式情報を共有シェ
 アしましょう。近所のイベントから全国のイベントま
 で今日のイベント検索やスケジュールを決めるならち
 っくたっく
X-WR-CALNAME:ちっくたっく
X-WR-TIMEZONE:UTC
BEGIN:VEVENT
SUMMARY:Arcana、REVE＠NIIGATA IDOL STAGE Vol.01
DTSTART;VALUE=DATE-TIME:20260505T043000Z
DTEND;VALUE=DATE-TIME:20260505T073000Z
UID:226031983693
DESCRIPTION:『NIIGATA IDOL STAGE Vol.01』2026.05.05CLUB RIVERSTOPEN  13
 :00 / START  13:30予約¥3\,000 / 当日券  ¥3\,500  Drink¥500出
 演市ノ瀬瑠莉  / Arcana / AYANE /Jasmine Lamp / REVE / Soniel予約h
 ttp://tiget.net/events/482566
LOCATION:CLUB RIVERST\, 日本、〒950-0901 新潟県新潟市中央区
 弁天３丁目３−５ 新潟マンション地下１階
END:VEVENT
END:VCALENDAR
