BEGIN:VCALENDAR
VERSION:2.0
PRODID:-//chikkutakku.com//RDFCal 1.0//EN
X-WR-CALDESC:GoogleカレンダーやiCalendar形式情報を共有シェ
 アしましょう。近所のイベントから全国のイベントま
 で今日のイベント検索やスケジュールを決めるならち
 っくたっく
X-WR-CALNAME:ちっくたっく
X-WR-TIMEZONE:UTC
BEGIN:VEVENT
SUMMARY:DMS Band Concerts
DTSTART;VALUE=DATE-TIME:20260520T224500Z
DTEND;VALUE=DATE-TIME:20260521T004500Z
UID:226111638976
DESCRIPTION:DMS Band Concerts
LOCATION:Delta Middle School\n9800 N Williamson Rd\, Muncie\, IN  47303\, 
 United States
END:VEVENT
END:VCALENDAR
