BEGIN:VCALENDAR
VERSION:2.0
PRODID:-//chikkutakku.com//RDFCal 1.0//EN
X-WR-CALDESC:GoogleカレンダーやiCalendar形式情報を共有シェ
 アしましょう。近所のイベントから全国のイベントま
 で今日のイベント検索やスケジュールを決めるならち
 っくたっく
X-WR-CALNAME:ちっくたっく
X-WR-TIMEZONE:UTC
BEGIN:VEVENT
SUMMARY:【ライブ】ソノウチ-day-
DTSTART;VALUE=DATE:20260504
DTEND;VALUE=DATE:20260505
UID:226201077844
DESCRIPTION:2026年5月5日(火祝)『ソノウチ-day-』◆時間 : 開
 場 10:15 / 開演10:30◆会場 : 恵比寿CreAto◆出演者：i_andscap
 e. / Amairo-Flip / Ange☆Reve / UPローチ / セカイシティ / Chu-Ha
 pi / ラビットビット / LarmeR◇◆◇――出演時間――◇◆
 ◇後日発表◇チケット情報◇前売2\,400円 / 当日3\,300円
 別途1ドリンク◆プレイガイド：https://t-dv.com/260505sonoutid
 ay4/17(金)22:00〜販売開始
LOCATION:恵比寿CreAto\, 日本、〒150-0011 東京都渋谷区東３
 丁目１４−１９ オークヒルズ B1
END:VEVENT
END:VCALENDAR
