BEGIN:VCALENDAR
VERSION:2.0
PRODID:-//chikkutakku.com//RDFCal 1.0//EN
X-WR-CALDESC:GoogleカレンダーやiCalendar形式情報を共有シェ
 アしましょう。近所のイベントから全国のイベントま
 で今日のイベント検索やスケジュールを決めるならち
 っくたっく
X-WR-CALNAME:ちっくたっく
X-WR-TIMEZONE:UTC
BEGIN:VEVENT
SUMMARY:【Android 対応】ぼいとれとかをみんなでやる会
DTSTART;VALUE=DATE-TIME:20260423T134000Z
DTEND;VALUE=DATE-TIME:20260423T141000Z
UID:226922802486
DESCRIPTION:【イベント主催者】\n　kara_turako\n【イベント
 内容】\n　いい声でるようにする練習とか、あ～あ～あ
 ～あ～♪とかします！\n【イベントジャンル】\n　\n【
 参加条件（モデル、人数制限など）】\n　軽いあばたー
 で来てもらえるとうれしいです！こえのひばながばち
 ばちです\n【参加方法】\n　kara_turako ( ID: kara_turako ) ま
 でフレンド申請～ジョインでお願いします！フレンド
 プラスでやるので、ついてくるとかでもおっけーです\n
 【備考】\n　https://x.com/KaraTurako/status/2047017649977327756
LOCATION:
END:VEVENT
END:VCALENDAR
