BEGIN:VCALENDAR
VERSION:2.0
PRODID:-//chikkutakku.com//RDFCal 1.0//EN
X-WR-CALDESC:GoogleカレンダーやiCalendar形式情報を共有シェ
 アしましょう。近所のイベントから全国のイベントま
 で今日のイベント検索やスケジュールを決めるならち
 っくたっく
X-WR-CALNAME:ちっくたっく
X-WR-TIMEZONE:UTC
BEGIN:VEVENT
SUMMARY:婚約破棄されましたが、一途な御曹司の最愛妻に
 なりました
DTSTART;VALUE=DATE:20260510
DTEND;VALUE=DATE:20260511
UID:226941295749
DESCRIPTION:2026-05-11婚約破棄されましたが、一途な御曹司
 の最愛妻になりました小日向江麻アルファポリス
LOCATION:
END:VEVENT
END:VCALENDAR
