BEGIN:VCALENDAR
VERSION:2.0
PRODID:-//chikkutakku.com//RDFCal 1.0//EN
X-WR-CALDESC:GoogleカレンダーやiCalendar形式情報を共有シェ
 アしましょう。近所のイベントから全国のイベントま
 で今日のイベント検索やスケジュールを決めるならち
 っくたっく
X-WR-CALNAME:ちっくたっく
X-WR-TIMEZONE:UTC
BEGIN:VEVENT
SUMMARY:Riding Club- Marley- NT \, Stella- NT\, Addison- NT\, caitlin- \, 
 kylar - mila \,
DTSTART;VALUE=DATE-TIME:20260424T220000Z
DTEND;VALUE=DATE-TIME:20260424T233000Z
UID:227042514014
DESCRIPTION:Riding Club- Marley- NT \, Stella- NT\, Addison- NT\, caitlin-
  \, kylar - mila \,
LOCATION:
END:VEVENT
END:VCALENDAR
