BEGIN:VCALENDAR
VERSION:2.0
PRODID:-//chikkutakku.com//RDFCal 1.0//EN
X-WR-CALDESC:GoogleカレンダーやiCalendar形式情報を共有シェ
 アしましょう。近所のイベントから全国のイベントま
 で今日のイベント検索やスケジュールを決めるならち
 っくたっく
X-WR-CALNAME:ちっくたっく
X-WR-TIMEZONE:UTC
BEGIN:VEVENT
SUMMARY:AquariumBar ネムルサカナ
DTSTART;VALUE=DATE-TIME:20260422T140000Z
DTEND;VALUE=DATE-TIME:20260422T145900Z
UID:227666157133
DESCRIPTION:【イベント主催者】\n　195d\n【イベント内容】
 \n　落ち着いた雰囲気の中で会話を楽しんで頂くという
 のがコンセプトの少人数雑談バーイベントです。\n一日
 の終わりにゆっくり雑談しませんか？\n\n・各フロア キ
 ャスト1人：参加者3人（最大）で雑談\n・参加可能な人
 数はイベント当日にGroupとXで通知\n・24時頃に集合写真
 を撮影してイベント終了\n・途中参加、退出OK\n・お酒
 を飲むも飲まないもどちらでも自由\n・その他、不明点
 がありましたらお気軽にお尋ねください\n【イベントジ
 ャンル】\n　店舗系イベント\, 初心者向けイベント\, 定
 期イベント\n【参加条件（モデル、人数制限など）】\n
 　以下については禁止事項となります。\n・過度なパー
 ティクルの使用や視界ジャック、参加者やキャストへ
 の暴言など迷惑になる行為\n・イベント中のキャストへ
 のフレンド申請\n・NSFW\n・その他、公序良俗に反する行
 為\n【参加方法】\n　Group（https://vrc․group/NEMURU․3170）
 に参加の上、Groupインスタンスへジョイン\n【備考】\n
 　参加してみようかな～と考えている方はこちらをぜ
 ひご参考ください\nhttps://www.nemuru-sakana.jp/
LOCATION:
END:VEVENT
END:VCALENDAR
