BEGIN:VCALENDAR
VERSION:2.0
PRODID:-//chikkutakku.com//RDFCal 1.0//EN
X-WR-CALDESC:GoogleカレンダーやiCalendar形式情報を共有シェ
 アしましょう。近所のイベントから全国のイベントま
 で今日のイベント検索やスケジュールを決めるならち
 っくたっく
X-WR-CALNAME:ちっくたっく
X-WR-TIMEZONE:UTC
BEGIN:VEVENT
SUMMARY:ぼのぼの(2016) #510 「クモモの森の大事件!?」
DTSTART;VALUE=DATE-TIME:20260424T202200Z
DTEND;VALUE=DATE-TIME:20260424T203000Z
UID:228728364983
DESCRIPTION:510 / クモモの森の大事件!? / 
LOCATION:フジテレビ
END:VEVENT
END:VCALENDAR
