BEGIN:VCALENDAR
VERSION:2.0
PRODID:-//chikkutakku.com//RDFCal 1.0//EN
X-WR-CALDESC:GoogleカレンダーやiCalendar形式情報を共有シェ
 アしましょう。近所のイベントから全国のイベントま
 で今日のイベント検索やスケジュールを決めるならち
 っくたっく
X-WR-CALNAME:ちっくたっく
X-WR-TIMEZONE:UTC
BEGIN:VEVENT
SUMMARY:A川口 中級クラス11 北畑（ヴェニーズワルツ⑤、
 サンバ⑤）
DTSTART;VALUE=DATE-TIME:20260423T103000Z
DTEND;VALUE=DATE-TIME:20260423T120000Z
UID:228843688848
DESCRIPTION:ステップ名＆動画\nヴェニーズワルツ⑤：https:
 //dancecirclej.com/index.php?go=wUsAFb\nサンバ⑤：https://dancecircle
 j.com/index.php?go=XJbpfn
LOCATION:タキガワダンススクール川口
END:VEVENT
END:VCALENDAR
