BEGIN:VCALENDAR
VERSION:2.0
PRODID:-//chikkutakku.com//RDFCal 1.0//EN
X-WR-CALDESC:GoogleカレンダーやiCalendar形式情報を共有シェ
 アしましょう。近所のイベントから全国のイベントま
 で今日のイベント検索やスケジュールを決めるならち
 っくたっく
X-WR-CALNAME:ちっくたっく
X-WR-TIMEZONE:UTC
BEGIN:VEVENT
SUMMARY:つながり集会
DTSTART;VALUE=DATE-TIME:20260421T140000Z
DTEND;VALUE=DATE-TIME:20260421T145900Z
UID:229027021382
DESCRIPTION:【イベント主催者】\n　たいにゃんぷ\n【イベ
 ント内容】\n　つながり集会は「はじめましての人」と
 楽しくお話するための集会です。初心者さんも、ベテ
 ランさんも、どなたでも大歓迎ですっ！\n一日の終りに
 、新しいつながりを一緒に作ってみませんか？\n【イベ
 ントジャンル】\n　その他交流会\, 初心者向けイベント
 \, 定期イベント\n【参加条件（モデル、人数制限など）
 】\n　ありません！\n【参加方法】\n　つながり集会の
 グループ（https://vrc.group/SHUKAI.5731）に参加してください
 。\n【備考】\n　開催時間の間、出入り自由となってい
 ます。開催時間中、途中からのご参加も問題ありませ
 ん！\n\nイベント開始時間より５〜１０分程度は待機時
 間となります。壁に掲示されている説明などを確認し
 ていただけるとありがたいです。\n待機時間後に「はじ
 まりのご説明」を行います。ご説明終了後にお話タイ
 ム開始となります。\n\nhttps://x.com/vr_shukai/status/189900992296
 6397158 
LOCATION:
END:VEVENT
END:VCALENDAR
