BEGIN:VCALENDAR
VERSION:2.0
PRODID:-//chikkutakku.com//RDFCal 1.0//EN
X-WR-CALDESC:GoogleカレンダーやiCalendar形式情報を共有シェ
 アしましょう。近所のイベントから全国のイベントま
 で今日のイベント検索やスケジュールを決めるならち
 っくたっく
X-WR-CALNAME:ちっくたっく
X-WR-TIMEZONE:UTC
BEGIN:VEVENT
SUMMARY:【通常営業日】小悪魔喫茶Teufel
DTSTART;VALUE=DATE-TIME:20260424T133000Z
DTEND;VALUE=DATE-TIME:20260424T143000Z
UID:229189227333
DESCRIPTION:【イベント主催者】\n　てとちゃん\n【イベン
 ト内容】\n　『小悪魔喫茶Teufel』は人間のことが大好き
 な小悪魔たちが、訪れるお客様の日々の疲れを癒すよ
 うなひとときを提供するコンセプトカフェとなってお
 ります！\nドリンクやフードを嗜みながらお話ししたり
 、小悪魔たちの気まぐれでいたずらをされることも...
 ♡\n営業後15分間のアフターでは、各小悪魔たち専用の
 フォトスポットで記念に残る特別なお写真を撮影でき
 ちゃいます！\nぜひご来店いただき、小悪魔喫茶Teufelで
 の特別なひとときをお楽しみください！！\n\n当店公式X
 のほうでは各小悪魔たちの自己紹介動画や、抽選で当
 たる招待券のご案内、小悪魔たちの出勤表など様々な
 情報を発信しております！\n気になる方がいましたら是
 非見に来てください♡\n公式Ｘ：https://x.com/Teufelcafe\n【
 イベントジャンル】\n　店舗系イベント\n【参加条件（
 モデル、人数制限など）】\n　　❗️注意事項❗️\n・
 キャストへの過度な触り行為はご遠慮ください\n・冷や
 かし的な発言や過度な下ネタ発言はご遠慮ください。\n
 ・キャストへの無断な撮影はご遠慮ください。\n・ルー
 ルと雰囲気を尊重する。\n・キャストさんや他のお客様
 へのご迷惑行為はご遠慮ください。\n・40MB以下のアバ
 ターでご来店ください。\n【参加方法】\n　　1\,Groupイ
 ンスタンにJOIN【TEUFEL.3640】\n　2.注意事項を守れる方！\
 n【備考】\n　
LOCATION:
END:VEVENT
END:VCALENDAR
