BEGIN:VCALENDAR
VERSION:2.0
PRODID:-//chikkutakku.com//RDFCal 1.0//EN
X-WR-CALDESC:GoogleカレンダーやiCalendar形式情報を共有シェ
 アしましょう。近所のイベントから全国のイベントま
 で今日のイベント検索やスケジュールを決めるならち
 っくたっく
X-WR-CALNAME:ちっくたっく
X-WR-TIMEZONE:UTC
BEGIN:VEVENT
SUMMARY:ソーシャルワーク実習
DTSTART;VALUE=DATE:20260420
DTEND;VALUE=DATE:20260421
UID:229230453435
DESCRIPTION:2026-04-21ソーシャルワーク実習佛教大学社会福
 祉士実習教育研究会クリエイツかもがわ
LOCATION:
END:VEVENT
END:VCALENDAR
