BEGIN:VCALENDAR
VERSION:2.0
PRODID:-//chikkutakku.com//RDFCal 1.0//EN
X-WR-CALDESC:GoogleカレンダーやiCalendar形式情報を共有シェ
 アしましょう。近所のイベントから全国のイベントま
 で今日のイベント検索やスケジュールを決めるならち
 っくたっく
X-WR-CALNAME:ちっくたっく
X-WR-TIMEZONE:UTC
BEGIN:VEVENT
SUMMARY:赤坂 G’s bar / カオリサンペイプロジェクト
DTSTART;VALUE=DATE-TIME:20260511T110000Z
DTEND;VALUE=DATE-TIME:20260511T133000Z
UID:229480363012
DESCRIPTION:03-6303-2363\n\n岩嵜香織(tp)　中路英明(tb)　楠 直
 孝(p)　坂田慶治(b)　平山ゴールデンサンペイ惠勇(ds)\n\n
 https://g-s-bar.com/
LOCATION:G's bar\, 日本、〒107-0052 東京都港区赤坂２丁目１
 ５−１３
END:VEVENT
END:VCALENDAR
