BEGIN:VCALENDAR
VERSION:2.0
PRODID:-//chikkutakku.com//RDFCal 1.0//EN
X-WR-CALDESC:GoogleカレンダーやiCalendar形式情報を共有シェ
 アしましょう。近所のイベントから全国のイベントま
 で今日のイベント検索やスケジュールを決めるならち
 っくたっく
X-WR-CALNAME:ちっくたっく
X-WR-TIMEZONE:UTC
BEGIN:VEVENT
SUMMARY:城ヶ島沖の海鳥観察グループ
DTSTART;VALUE=DATE-TIME:20260426T020000Z
DTEND;VALUE=DATE-TIME:20260426T023000Z
UID:229758240429
DESCRIPTION:雨天中止\n一般参加歓迎
LOCATION:三浦市　城ヶ島長津呂崎
END:VEVENT
END:VCALENDAR
