BEGIN:VCALENDAR
VERSION:2.0
PRODID:-//chikkutakku.com//RDFCal 1.0//EN
X-WR-CALDESC:GoogleカレンダーやiCalendar形式情報を共有シェ
 アしましょう。近所のイベントから全国のイベントま
 で今日のイベント検索やスケジュールを決めるならち
 っくたっく
X-WR-CALNAME:ちっくたっく
X-WR-TIMEZONE:UTC
BEGIN:VEVENT
SUMMARY:もっと楽しむ! 癒やされる! 動物園&水族館
DTSTART;VALUE=DATE:20260429
DTEND;VALUE=DATE:20260430
UID:229879269907
DESCRIPTION:2026-04-30もっと楽しむ! 癒やされる! 動物園&水
 族館宝島社
LOCATION:
END:VEVENT
END:VCALENDAR
