BEGIN:VCALENDAR
VERSION:2.0
PRODID:-//chikkutakku.com//RDFCal 1.0//EN
X-WR-CALDESC:GoogleカレンダーやiCalendar形式情報を共有シェ
 アしましょう。近所のイベントから全国のイベントま
 で今日のイベント検索やスケジュールを決めるならち
 っくたっく
X-WR-CALNAME:ちっくたっく
X-WR-TIMEZONE:UTC
BEGIN:VEVENT
SUMMARY:SJB hosting Central Interschool Sport
DTSTART;VALUE=DATE-TIME:20260423T224500Z
DTEND;VALUE=DATE-TIME:20260424T021500Z
UID:230238138551
DESCRIPTION:10:45 - leave SJB\n11 - mihi whakatau\n11:30 - football & Netb
 all games begin\n12:30 - rugby game starts\n1:30 - aftermatch
LOCATION:
END:VEVENT
END:VCALENDAR
