BEGIN:VCALENDAR
VERSION:2.0
PRODID:-//chikkutakku.com//RDFCal 1.0//EN
X-WR-CALDESC:GoogleカレンダーやiCalendar形式情報を共有シェ
 アしましょう。近所のイベントから全国のイベントま
 で今日のイベント検索やスケジュールを決めるならち
 っくたっく
X-WR-CALNAME:ちっくたっく
X-WR-TIMEZONE:UTC
BEGIN:VEVENT
SUMMARY:【DJイベント】EXTREME vol.45
DTSTART;VALUE=DATE-TIME:20260422T120000Z
DTEND;VALUE=DATE-TIME:20260422T140000Z
UID:231118598901
DESCRIPTION:【イベント主催者】\n　DJ KANISAN\n【イベント内
 容】\n　毎週水曜日開催DJイベント「EXTREME」！\n次回は
 クルー回✨\nピックアップはみこる！\nDubstepやメインス
 テージ系のサウンドを中心に時にはサブカルサウンド
 を取り入れるなどフロアを見た選曲で盛り上げていく
 🔥\n\n皆様是非ご来場ください☻\n【イベントジャンル
 】\n　音楽系イベント\n【参加条件（モデル、人数制限
 など）】\n　\n【参加方法】\n　VRChat Groupに参加\nhttps://v
 rc.group/EXRAVE.4424\n【備考】\n　
LOCATION:
END:VEVENT
END:VCALENDAR
