BEGIN:VCALENDAR
VERSION:2.0
PRODID:-//chikkutakku.com//RDFCal 1.0//EN
X-WR-CALDESC:GoogleカレンダーやiCalendar形式情報を共有シェ
 アしましょう。近所のイベントから全国のイベントま
 で今日のイベント検索やスケジュールを決めるならち
 っくたっく
X-WR-CALNAME:ちっくたっく
X-WR-TIMEZONE:UTC
BEGIN:VEVENT
SUMMARY:深夜カフェ～Stellaris Vigilia Café～
DTSTART;VALUE=DATE-TIME:20260428T140000Z
DTEND;VALUE=DATE-TIME:20260428T160000Z
UID:231245039475
DESCRIPTION:【イベント主催者】\n　AKAW(ワカ)\n【イベント
 内容】\n　グループパプリックで不定期に開いています
 。\n【イベントジャンル】\n　その他交流会\, 店舗系イ
 ベント\n【参加条件（モデル、人数制限など）】\n　グ
 ループのルール欄をご一読ください。\n【参加方法】\n
 　グループ「Stellaris Vigilia Café」のグループパブリック
 インスタンスにJoin\n【備考】\n　https://vrc.group/STELLA.2508
LOCATION:
END:VEVENT
END:VCALENDAR
