BEGIN:VCALENDAR
VERSION:2.0
PRODID:-//chikkutakku.com//RDFCal 1.0//EN
X-WR-CALDESC:GoogleカレンダーやiCalendar形式情報を共有シェ
 アしましょう。近所のイベントから全国のイベントま
 で今日のイベント検索やスケジュールを決めるならち
 っくたっく
X-WR-CALNAME:ちっくたっく
X-WR-TIMEZONE:UTC
BEGIN:VEVENT
SUMMARY:AVRORA+本藤美咲+岡川怜央+竹下勇馬
DTSTART;VALUE=DATE:20260507
DTEND;VALUE=DATE:20260508
UID:231484791824
DESCRIPTION:open 19:30 / start 20:00\nAVRORA+本藤美咲+岡川怜央+竹
 下勇馬\n()\n投げ銭制(別途チャージ500円+ドリンクオーダ
 ー)\n()\n予約方法\n・予約受付メールアドレス:barisshee@keh
 .biglobe.ne.jp\nタイトルを「5/8予約」とし、\n上記アドレ
 スに氏名(フルネーム)と人数(最大2名)と電話番号をお知
 らせください。整理番号を返信いたします。\n予約は5
 月7日24時で締め切ります。\nそれ以前に定員に達した場
 合はその時点で予約終了となります。\n()\nメールにて
 ご予約、整理番号順の入場となります。\n携帯からメー
 ルされる方は、PCからのメールを受け取れるようにして
 おいてください。\n()\nなお事前連絡無しの無断のキャ
 ンセルの場合、\n今後の予約ができなくなる可能性もあ
 りますので、\n充分ご承知おきください。\n\n【関連/参
 考ページ】\nhttp://www.bloc.jp/barisshee/ （千駄木Bar Isshee）
LOCATION:千駄木Bar Isshee【関東】
END:VEVENT
END:VCALENDAR
