BEGIN:VCALENDAR
VERSION:2.0
PRODID:-//chikkutakku.com//RDFCal 1.0//EN
X-WR-CALDESC:GoogleカレンダーやiCalendar形式情報を共有シェ
 アしましょう。近所のイベントから全国のイベントま
 で今日のイベント検索やスケジュールを決めるならち
 っくたっく
X-WR-CALNAME:ちっくたっく
X-WR-TIMEZONE:UTC
BEGIN:VEVENT
SUMMARY:切通四甲視訊
DTSTART;VALUE=DATE-TIME:20260514T234000Z
DTEND;VALUE=DATE-TIME:20260515T001000Z
UID:232141872447
DESCRIPTION:切通四甲視訊
LOCATION:
END:VEVENT
END:VCALENDAR
