BEGIN:VCALENDAR
VERSION:2.0
PRODID:-//chikkutakku.com//RDFCal 1.0//EN
X-WR-CALDESC:GoogleカレンダーやiCalendar形式情報を共有シェ
 アしましょう。近所のイベントから全国のイベントま
 で今日のイベント検索やスケジュールを決めるならち
 っくたっく
X-WR-CALNAME:ちっくたっく
X-WR-TIMEZONE:UTC
BEGIN:VEVENT
SUMMARY:VRサバゲーイベント「Centurion」
DTSTART;VALUE=DATE-TIME:20260424T120000Z
DTEND;VALUE=DATE-TIME:20260424T133000Z
UID:232162928320
DESCRIPTION:【イベント主催者】\n　NUINOMI\n【イベント内容
 】\n　VRChat上で、実際のサバゲー（エアソフト）をベー
 スにしたリアルな体験ができるイベントです！ 普段か
 らサバゲーをやってる方はもちろん、未経験者でも大
 歓迎！ いつもとは違う体験をしてみませんか？\n【イ
 ベントジャンル】\n　定期イベント\n【参加条件（モデ
 ル、人数制限など）】\n　定員34人まで（スタッフ4名含
 む）⁄使用アバターにはレギュレーションがあります
 ので公式Xの固定ポストからワンダーノートの「アバタ
 ーレギュレーション」をご確認ください。\nレンタルア
 バターもありますのでお気軽にご参加ください！\n【参
 加方法】\n　レギュレーションをご確認のうえ、公式グ
 ループにご参加ください。\n※申請前に必ず自身の加入
 グループ数が上限(100又は200)に達していないことをご確
 認の上、申請をお願いいたします。\n公式グループリン
 ク：https://vrchat.com/home/group/grp_26d328bc-e262-4668-935f-00af0e2e68
 0c\n【備考】\n　
LOCATION:
END:VEVENT
END:VCALENDAR
