BEGIN:VCALENDAR
VERSION:2.0
PRODID:-//chikkutakku.com//RDFCal 1.0//EN
X-WR-CALDESC:GoogleカレンダーやiCalendar形式情報を共有シェ
 アしましょう。近所のイベントから全国のイベントま
 で今日のイベント検索やスケジュールを決めるならち
 っくたっく
X-WR-CALNAME:ちっくたっく
X-WR-TIMEZONE:UTC
BEGIN:VEVENT
SUMMARY:マンガ 清原達郎 わが投資術 3 市場は誰に微笑む
 か
DTSTART;VALUE=DATE:20260521
DTEND;VALUE=DATE:20260522
UID:232420369547
DESCRIPTION:2026-05-22マンガ 清原達郎 わが投資術 3 市場は
 誰に微笑むか清原 達郎/ウエノ/河野 慶講談社
LOCATION:
END:VEVENT
END:VCALENDAR
