BEGIN:VCALENDAR
VERSION:2.0
PRODID:-//chikkutakku.com//RDFCal 1.0//EN
X-WR-CALDESC:GoogleカレンダーやiCalendar形式情報を共有シェ
 アしましょう。近所のイベントから全国のイベントま
 で今日のイベント検索やスケジュールを決めるならち
 っくたっく
X-WR-CALNAME:ちっくたっく
X-WR-TIMEZONE:UTC
BEGIN:VEVENT
SUMMARY:スモーブロ・ザ・マニュアル
DTSTART;VALUE=DATE:20260508
DTEND;VALUE=DATE:20260509
UID:233117524902
DESCRIPTION:2026-05-09スモーブロ・ザ・マニュアルアダム・
 オーマン/くらもと さちこ誠文堂新光社
LOCATION:
END:VEVENT
END:VCALENDAR
