BEGIN:VCALENDAR
VERSION:2.0
PRODID:-//chikkutakku.com//RDFCal 1.0//EN
X-WR-CALDESC:GoogleカレンダーやiCalendar形式情報を共有シェ
 アしましょう。近所のイベントから全国のイベントま
 で今日のイベント検索やスケジュールを決めるならち
 っくたっく
X-WR-CALNAME:ちっくたっく
X-WR-TIMEZONE:UTC
BEGIN:VEVENT
SUMMARY:MUSIC | World in Union Concert (Whole school) Dress Rehearsal
DTSTART;VALUE=DATE-TIME:20260505T150000Z
DTEND;VALUE=DATE-TIME:20260505T183000Z
UID:233244179221
DESCRIPTION:World in Union flyer.jpgParent Letter_Term Events.docx.pdf
LOCATION:Dutch Reformed Church Helderberg\, 82 Firmount Road\, Goede Hoop\
 , Cape Town\, 7130\, South Africa
END:VEVENT
END:VCALENDAR
