BEGIN:VCALENDAR
VERSION:2.0
PRODID:-//chikkutakku.com//RDFCal 1.0//EN
X-WR-CALDESC:GoogleカレンダーやiCalendar形式情報を共有シェ
 アしましょう。近所のイベントから全国のイベントま
 で今日のイベント検索やスケジュールを決めるならち
 っくたっく
X-WR-CALNAME:ちっくたっく
X-WR-TIMEZONE:UTC
BEGIN:VEVENT
SUMMARY:【注】呪術廻戦(3) #48 執行 / #49 もう一度 / #50 死
 滅回游について / #51 葦を啣む / #52 熱 / #53 部品 / #54 東
 京第1結界(コロニー)① / #55 東京第1結界(コロニー)② / #
 56 東京第1結界(コロニー)③ / #57 東京第1結界(コロニー)
 ④ / #58 東京第1結界(コロニー)⑤ / #59 仙台結界(コロニ
 ー)
DTSTART;VALUE=DATE-TIME:20260424T190000Z
DTEND;VALUE=DATE-TIME:20260425T010000Z
UID:233587648607
DESCRIPTION: / #48 執行 / #49 もう一度 / #50 死滅回游につい
 て / #51 葦を啣む / #52 熱 / #53 部品 / #54 東京第1結界(コ
 ロニー)① / #55 東京第1結界(コロニー)② / #56 東京第1結
 界(コロニー)③ / #57 東京第1結界(コロニー)④ / #58 東京
 第1結界(コロニー)⑤ / #59 仙台結界(コロニー) / https://abe
 ma.tv/channels/abema-anime/slots/AkN7YDmw48KzV5 リピート放送は ABEM
 A アニメチャンネル2 4/25(土) 12:00～ https://abema.tv/channels/a
 bema-anime-2/slots/EvABR9oiZk6drX 、4/25(土) 24:30～ https://abema.tv/c
 hannels/abema-anime-2/slots/Ah77miFLZfwgum (無料TS1週間)
LOCATION:Abemaアニメ
END:VEVENT
END:VCALENDAR
