BEGIN:VCALENDAR
VERSION:2.0
PRODID:-//chikkutakku.com//RDFCal 1.0//EN
X-WR-CALDESC:GoogleカレンダーやiCalendar形式情報を共有シェ
 アしましょう。近所のイベントから全国のイベントま
 で今日のイベント検索やスケジュールを決めるならち
 っくたっく
X-WR-CALNAME:ちっくたっく
X-WR-TIMEZONE:UTC
BEGIN:VEVENT
SUMMARY:05/18 ~ 05/22 技高課一、二年級程諮詢教師第二次入
 班實施團體諮詢暨課程說明
DTSTART;VALUE=DATE:20260517
DTEND;VALUE=DATE:20260522
UID:233976923276
DESCRIPTION:05/18 ~ 05/22 技高課一、二年級程諮詢教師第二次
 入班實施團體諮詢暨課程說明
LOCATION:
END:VEVENT
END:VCALENDAR
