BEGIN:VCALENDAR
VERSION:2.0
PRODID:-//chikkutakku.com//RDFCal 1.0//EN
X-WR-CALDESC:GoogleカレンダーやiCalendar形式情報を共有シェ
 アしましょう。近所のイベントから全国のイベントま
 で今日のイベント検索やスケジュールを決めるならち
 っくたっく
X-WR-CALNAME:ちっくたっく
X-WR-TIMEZONE:UTC
BEGIN:VEVENT
SUMMARY:ご当地キャラ成田詣うなふぁん2026
DTSTART;VALUE=DATE:20260522
DTEND;VALUE=DATE:20260523
UID:234034049968
DESCRIPTION:●　一般観覧可能なイベントです。とち介が
 おともだち、「うなりくん」のくらす千葉県成田市に
 おでかけします。▽イベント情報ご当地キャラ成田詣
 うなふぁん2026期日　2026年5月23日（土）・24日（日）時
 間　23日（土）10:00～15:30　/　24日（日）10:00～15:30場所
 　千葉県成田市　成田山新勝寺大本堂前、成田山表参
 道＊とち介は23日（土）のみの参加です。天候等により
 、予告なくスケジュールに変更が生じる場合がござい
 ます。X(旧 ツイッター)「とち介公式アカウント（@Tochi_
 suke ）」で随時お知らせいたしますので、併せてご確認
 ください。   最終更新：2026.3.23
LOCATION:成田山新勝寺\, 日本、〒286-0023 千葉県成田市成
 田１
END:VEVENT
END:VCALENDAR
