BEGIN:VCALENDAR
VERSION:2.0
PRODID:-//chikkutakku.com//RDFCal 1.0//EN
X-WR-CALDESC:GoogleカレンダーやiCalendar形式情報を共有シェ
 アしましょう。近所のイベントから全国のイベントま
 で今日のイベント検索やスケジュールを決めるならち
 っくたっく
X-WR-CALNAME:ちっくたっく
X-WR-TIMEZONE:UTC
BEGIN:VEVENT
SUMMARY:【注】響け！ユーフォニアム #1 ようこそハイス
 クール / #2 よろしくユーフォニアム / #3 はじめてアン
 サンブル / #4 うたうよソルフェージュ / #5 ただいまフ
 ェスティバル / #6 きらきらチューバ / #7 なきむしサク
 ソフォン / #8 おまつりトライアングル / #9 おねがいオ
 ーディション / #10 まっすぐトランペット / #11 おかえり
 オーディション / #12 わたしのユーフォニアム / #13 さよ
 ならコンクール / #14 番外編 かけだすモナカ
DTSTART;VALUE=DATE-TIME:20260424T073000Z
DTEND;VALUE=DATE-TIME:20260424T143000Z
UID:234108619608
DESCRIPTION: / #1 ようこそハイスクール / #2 よろしくユー
 フォニアム / #3 はじめてアンサンブル / #4 うたうよソ
 ルフェージュ / #5 ただいまフェスティバル / #6 きらき
 らチューバ / #7 なきむしサクソフォン / #8 おまつりト
 ライアングル / #9 おねがいオーディション / #10 まっす
 ぐトランペット / #11 おかえりオーディション / #12 わた
 しのユーフォニアム / #13 さよならコンクール / #14 番外
 編 かけだすモナカ / (#14は未放送話) ([[アニメSPECIAL https
 ://abema.tv/timetable/channels/special-plus-7]]) https://abema.tv/channels
 /special-plus-7/slots/EvABMpfyvy4Num リピート放送は 25:00～ https:
 //abema.tv/channels/special-plus-7/slots/EvABQYaDacFSJb (無料TS1週間) 
 https://prtimes.jp/main/html/rd/p/000003116.000064643.html
LOCATION:ABEMA特設その他
END:VEVENT
END:VCALENDAR
