BEGIN:VCALENDAR
VERSION:2.0
PRODID:-//chikkutakku.com//RDFCal 1.0//EN
X-WR-CALDESC:GoogleカレンダーやiCalendar形式情報を共有シェ
 アしましょう。近所のイベントから全国のイベントま
 で今日のイベント検索やスケジュールを決めるならち
 っくたっく
X-WR-CALNAME:ちっくたっく
X-WR-TIMEZONE:UTC
BEGIN:VEVENT
SUMMARY:謎解きワールドめぐり #謎めぐり
DTSTART;VALUE=DATE-TIME:20260422T120000Z
DTEND;VALUE=DATE-TIME:20260422T130000Z
UID:234702512865
DESCRIPTION:【イベント主催者】\n　k.izumi\n【イベント内容
 】\n　みんなで謎を解くイベントです。\n今週の謎：謎
 解きワールド 間違い謎\n【イベントジャンル】\n　その
 他交流会\, 定期イベント\n【参加条件（モデル、人数制
 限など）】\n　謎解き好きな人\n【参加方法】\n　謎め
 ぐりGroupにJoin\n【備考】\n　謎めぐりGroup　注意点はGroup
 の概要を\nhttps://vrc.group/NAZO.0177\n集会用Discord\nhttps://disco
 rd.gg/BR9WMcP\nTwitterハッシュタグ　#謎めぐり
LOCATION:
END:VEVENT
END:VCALENDAR
