BEGIN:VCALENDAR
VERSION:2.0
PRODID:-//chikkutakku.com//RDFCal 1.0//EN
X-WR-CALDESC:GoogleカレンダーやiCalendar形式情報を共有シェ
 アしましょう。近所のイベントから全国のイベントま
 で今日のイベント検索やスケジュールを決めるならち
 っくたっく
X-WR-CALNAME:ちっくたっく
X-WR-TIMEZONE:UTC
BEGIN:VEVENT
SUMMARY:การประชุมสัมมนาวิชาการ
 งานวันวิจัย เนื่องในวันคล
 ้ายวันสถาปนาคณะทันตแพทยศ
 าสตร์ มหาวิทยาลัยมหิดล ครบ
 รอบ 58 ปี  ข่าวประชาสัมพันธ์
 จาก : สำนักงานการวิจัย
DTSTART;VALUE=DATE:20260504
DTEND;VALUE=DATE:20260505
UID:234771892023
DESCRIPTION:การประชุมสัมมนาวิชาก
 ารงานวันวิจัยเนื่องในวัน
 คล้ายวันสถาปนาคณะทันตแพท
 ยศาสตร์ มหาวิทยาลัยมหิดลค
 รบรอบ 58 ปีการนำเสนอผลงานวิ
 จัยและประกวดผลงานวิจัย ชิ
 งเงินรางวัลมูลค่ารวมมากก
 ว่า 20\,000 บาทข่าวประชาสัมพัน
 ธ์จาก : สำนักงานการวิจัย⏰ ว
 ันเวลาที่เริ่มงาน : 5 มิถุนา
 ยน 2569📍 สถานที่ : ณ คณะทันตแพท
 ยศาสตร์ มหาวิทยาลัยมหิดลผ
 ู้ที่สนใจสามารถส่งผลงานเ
 ข้าร่วมการประกวดผลงานวิจ
 ัย โดยแบ่งออกเป็น 2 ระดับดั
 งนี้1. การประกวดผลงานวิจัย
 นิสิต/นักศึกษาระดับปริญญา
 ตรี2. การประกวดผลงานวิจัยน
 ิสิต/นักศึกษาระดับหลังปริ
 ญญาและบุคคลทั่วไป📑 เปิดรั
 บผลงานวิจัยฉบับเต็ม (Full Paper) แ
 ละ Proceedings : ตั้งแต่บัดนี้ – 30 เม
 ษายน 2569📑เปิดรับบทคัดย่อผล
 งานวิจัยเพื่อการนำเสนอ (Abstra
 ct) : ตั้งแต่บัดนี้ – 18 พฤษภาคม
  2569📣 แจ้งผลการตอบรับการนำเ
 สนอผลงานวิจัย : วันที่ 30 พฤษ
 ภาคม 2569💻 นำเสนอผลงานวิจัย (Or
 al Presentation) : วันที่ 5 มิถุนายน 2569ล
 งทะเบียนและส่งผลงาน ได้ที
 ่ : https://docs.google.com/forms/d/e/1FAIpQLSf641wYGxNDIpnRAT786HoEmIk9
 0Ga2f1wyv0tVKXF9sp7cdA/viewform?pli=1ศึกษารายละเอ
 ียดเพิ่มเติม ได้ที่ : https://drive.go
 ogle.com/drive/mobile/folders/1IEIaDbf82G2oL8z81vkkoaJXH6LmB7bu?usp=drive_
 link☎️ ติดต่อสอบถามเพิ่มเติม
 สำนักงานการวิจัย 02-200-7620Link ข่า
 วประชาสัมพันธ์ : https://dt.mahidol.ac.th/news
 /news-20260422-1/
LOCATION:ณ คณะทันตแพทยศาสตร์ มหา
 วิทยาลัยมหิดล
END:VEVENT
END:VCALENDAR
