BEGIN:VCALENDAR
VERSION:2.0
PRODID:-//chikkutakku.com//RDFCal 1.0//EN
X-WR-CALDESC:GoogleカレンダーやiCalendar形式情報を共有シェ
 アしましょう。近所のイベントから全国のイベントま
 で今日のイベント検索やスケジュールを決めるならち
 っくたっく
X-WR-CALNAME:ちっくたっく
X-WR-TIMEZONE:UTC
BEGIN:VEVENT
SUMMARY:仮)サークル新歓
DTSTART;VALUE=DATE-TIME:20260423T093000Z
DTEND;VALUE=DATE-TIME:20260423T130000Z
UID:235185598511
DESCRIPTION:▼申込内容\n予約日時: 2026/04/08 19:38:38\nお名前
 　: 池田　照夏(TORICEF)\n予約日　: 2026/04/23(木)\n予約時間
 : 18:30～22:00
LOCATION:
END:VEVENT
END:VCALENDAR
