BEGIN:VCALENDAR
VERSION:2.0
PRODID:-//chikkutakku.com//RDFCal 1.0//EN
X-WR-CALDESC:GoogleカレンダーやiCalendar形式情報を共有シェ
 アしましょう。近所のイベントから全国のイベントま
 で今日のイベント検索やスケジュールを決めるならち
 っくたっく
X-WR-CALNAME:ちっくたっく
X-WR-TIMEZONE:UTC
BEGIN:VEVENT
SUMMARY:静かなるドン - もうひとつの最終章 -（8）
DTSTART;VALUE=DATE:20260513
DTEND;VALUE=DATE:20260514
UID:235514688423
DESCRIPTION:2026-05-14静かなるドン - もうひとつの最終章 -
 （8）新田 たつお実業之日本社
LOCATION:
END:VEVENT
END:VCALENDAR
