BEGIN:VCALENDAR
VERSION:2.0
PRODID:-//chikkutakku.com//RDFCal 1.0//EN
X-WR-CALDESC:GoogleカレンダーやiCalendar形式情報を共有シェ
 アしましょう。近所のイベントから全国のイベントま
 で今日のイベント検索やスケジュールを決めるならち
 っくたっく
X-WR-CALNAME:ちっくたっく
X-WR-TIMEZONE:UTC
BEGIN:VEVENT
SUMMARY:(รองอรรถวุฒิ)ออกร่วมประ
 เมินหน่วยบริการสุขภาพปฐม
 ภูมิ ณ รพ.สต.ตำบลขุนหาญ และใ
 นพื้นที่ อ.ขุนหาญ
DTSTART;VALUE=DATE-TIME:20260423T020000Z
DTEND;VALUE=DATE-TIME:20260423T093000Z
UID:235835590176
DESCRIPTION:(รองอรรถวุฒิ)ออกร่วมปร
 ะเมินหน่วยบริการสุขภาพปฐ
 มภูมิ ณ รพ.สต.ตำบลขุนหาญ และ
 ในพื้นที่ อ.ขุนหาญ
LOCATION:
END:VEVENT
END:VCALENDAR
