BEGIN:VCALENDAR
VERSION:2.0
PRODID:-//chikkutakku.com//RDFCal 1.0//EN
X-WR-CALDESC:GoogleカレンダーやiCalendar形式情報を共有シェ
 アしましょう。近所のイベントから全国のイベントま
 で今日のイベント検索やスケジュールを決めるならち
 っくたっく
X-WR-CALNAME:ちっくたっく
X-WR-TIMEZONE:UTC
BEGIN:VEVENT
SUMMARY:NHKきょうの料理 横山タカ子のつくりやすい手仕
 事レシピ
DTSTART;VALUE=DATE:20260518
DTEND;VALUE=DATE:20260519
UID:235906576470
DESCRIPTION:2026-05-19NHKきょうの料理 横山タカ子のつくりや
 すい手仕事レシピ横山 タカ子NHK出版
LOCATION:
END:VEVENT
END:VCALENDAR
