BEGIN:VCALENDAR
VERSION:2.0
PRODID:-//chikkutakku.com//RDFCal 1.0//EN
X-WR-CALDESC:GoogleカレンダーやiCalendar形式情報を共有シェ
 アしましょう。近所のイベントから全国のイベントま
 で今日のイベント検索やスケジュールを決めるならち
 っくたっく
X-WR-CALNAME:ちっくたっく
X-WR-TIMEZONE:UTC
BEGIN:VEVENT
SUMMARY:【注】REBORN! #163 恐怖！アジト大騒動 / #164 ボンゴ
 レ匣(ボックス)、修業開始 / #165 ボイコット宣言 / #166 
 同じ心で / #167 決戦の日 / #168 チョイス開始 / #169 天空
 ライオンVer.V.｢レオネ・ディ・チェーリバージョンボ
 ンゴレ｣ / #170 因縁の対決
DTSTART;VALUE=DATE-TIME:20260420T203000Z
DTEND;VALUE=DATE-TIME:20260421T003000Z
UID:236471189630
DESCRIPTION: / #163 恐怖！アジト大騒動 / #164 ボンゴレ匣(ボ
 ックス)、修業開始 / #165 ボイコット宣言 / #166 同じ心で
  / #167 決戦の日 / #168 チョイス開始 / #169 天空ライオンVe
 r.V.｢レオネ・ディ・チェーリバージョンボンゴレ｣ / #
 170 因縁の対決 / https://abema.tv/channels/00s-anime-1/slots/AkN7ZSNm
 PB4bJ7 リピート放送は 9:30～ https://abema.tv/channels/00s-anime-1
 /slots/Ah77pkxkT9NktX 、18:00～ https://abema.tv/channels/00s-anime-1/sl
 ots/EvABPxHMGcm69D (無料TS1週間) https://prtimes.jp/main/html/rd/p/000
 002968.000064643.html
LOCATION:なつかしアニメ00's
END:VEVENT
END:VCALENDAR
