BEGIN:VCALENDAR
VERSION:2.0
PRODID:-//chikkutakku.com//RDFCal 1.0//EN
X-WR-CALDESC:GoogleカレンダーやiCalendar形式情報を共有シェ
 アしましょう。近所のイベントから全国のイベントま
 で今日のイベント検索やスケジュールを決めるならち
 っくたっく
X-WR-CALNAME:ちっくたっく
X-WR-TIMEZONE:UTC
BEGIN:VEVENT
SUMMARY:GS Troop 7077 Troop Meetings 
DTSTART;VALUE=DATE-TIME:20250910T040000Z
DTEND;VALUE=DATE-TIME:20260514T040000Z
UID:237053892782
DESCRIPTION:GS Troop 7077 Troop Meetings 
LOCATION:Room 105
END:VEVENT
END:VCALENDAR
