BEGIN:VCALENDAR
VERSION:2.0
PRODID:-//chikkutakku.com//RDFCal 1.0//EN
X-WR-CALDESC:GoogleカレンダーやiCalendar形式情報を共有シェ
 アしましょう。近所のイベントから全国のイベントま
 で今日のイベント検索やスケジュールを決めるならち
 っくたっく
X-WR-CALNAME:ちっくたっく
X-WR-TIMEZONE:UTC
BEGIN:VEVENT
SUMMARY:Portola West McDowell: Dinner
DTSTART;VALUE=DATE-TIME:20260422T000000Z
DTEND;VALUE=DATE-TIME:20260422T030000Z
UID:237120645527
DESCRIPTION:\n====SFF====\nBooked Location: Portola West McDowell: Dinner 
 \nBooked Date: 4/21/26 \nBooked Truck: Buzznbeez \n\nTo Unbook: Login to S
 FF and go to My Events\nDo not remove this event (SFF will remove it if yo
 u cancel or transfer) \n\nGenerated by SFF\n===STREETFOODFINDER.COM===\n
LOCATION:5231 W McDowell Rd\, Phoenix\, AZ 85043\, USA
END:VEVENT
END:VCALENDAR
