BEGIN:VCALENDAR
VERSION:2.0
PRODID:-//chikkutakku.com//RDFCal 1.0//EN
X-WR-CALDESC:GoogleカレンダーやiCalendar形式情報を共有シェ
 アしましょう。近所のイベントから全国のイベントま
 で今日のイベント検索やスケジュールを決めるならち
 っくたっく
X-WR-CALNAME:ちっくたっく
X-WR-TIMEZONE:UTC
BEGIN:VEVENT
SUMMARY:Finance Meeting
DTSTART;VALUE=DATE-TIME:20260429T150000Z
DTEND;VALUE=DATE-TIME:20260429T153000Z
UID:238077831396
DESCRIPTION:Discussion on Finance Policy\n\n通过 Google Meet 加入：ht
 tps://meet.google.com/feo-kdje-vnt\n或者拨打以下号码：(US) +1 916
 -318-9124 PIN 码： 835202933#\n更多电话号码: https://tel.meet/feo-
 kdje-vnt?pin=4469013727728&hs=7\n\n如需详细了解 Google Meet，请访
 问：https://support.google.com/a/users/answer/9282720
LOCATION:Room 203 - Library\, Stonybrook-events
END:VEVENT
END:VCALENDAR
