BEGIN:VCALENDAR
VERSION:2.0
PRODID:-//chikkutakku.com//RDFCal 1.0//EN
X-WR-CALDESC:GoogleカレンダーやiCalendar形式情報を共有シェ
 アしましょう。近所のイベントから全国のイベントま
 で今日のイベント検索やスケジュールを決めるならち
 っくたっく
X-WR-CALNAME:ちっくたっく
X-WR-TIMEZONE:UTC
BEGIN:VEVENT
SUMMARY:【ｹﾓﾉ/ｲｹﾒﾝ/ｻｲﾎﾞｰｸﾞ】多属性BAR243
DTSTART;VALUE=DATE-TIME:20260424T140000Z
DTEND;VALUE=DATE-TIME:20260424T145900Z
UID:238443514758
DESCRIPTION:【イベント主催者】\n　24Me7Re(フシミナリ)\n【
 イベント内容】\n　今回のキャストは【ケモノ】【イケ
 メン】【サイボーグ】です。\n\n#BAR243\n\n当店は、へべ
 れけゆるゆるくっちゃべりBARです。\nケモノ、イケメン
 美少女、異形頭、ロボ、ちびっこ等々様々な属性のキ
 ャストがいるかもしれません。\nゆるいおしゃべりとお
 酒、そして多属性キャストを楽しみたい方はぜひぜひ
 おいでください。\n\n【イベントジャンル】\n　VR飲み会
 \, 店舗系イベント\, 初心者向けイベント\n【参加条件（
 モデル、人数制限など）】\n　以下のアバターでのご来
 店はご遠慮ください。\n・容量の大き過ぎるアバター(50
 MB以下を推奨しております)\n・高負荷なギミックを導入
 しているアバター\n・版権アバター、違法アバター、NSF
 Wに該当するアバター\n・過度なパーティクルや武器を
 導入しているアバター\n【参加方法】\n　以下のページ
 よりグループに参加し、時間になりましたらイベント
 インスタンスにjoinしてください。\nBAR243(BAR243.0386)\nhttps
 ://vrc.group/BAR243.0386\n【備考】\n　多属性BAR243ではキャス
 トを雇用する予定です。\n見てみたい属性(美女、異形
 頭等)がありましたら、お気軽にお申し出ください。\n
 またキャストにご興味のある方はDMにてご相談ください
 。\nなお必ずご対応できるとは限りませんので、ご了承
 ください。\n\n以下X(旧Twitter)\n24Me7Re(マスター)\nhttps://x.c
 om/7Re24Me?t=XUHIemFMp5grMX609hPmFg&s=09
LOCATION:
END:VEVENT
END:VCALENDAR
