BEGIN:VCALENDAR
VERSION:2.0
PRODID:-//chikkutakku.com//RDFCal 1.0//EN
X-WR-CALDESC:GoogleカレンダーやiCalendar形式情報を共有シェ
 アしましょう。近所のイベントから全国のイベントま
 で今日のイベント検索やスケジュールを決めるならち
 っくたっく
X-WR-CALNAME:ちっくたっく
X-WR-TIMEZONE:UTC
BEGIN:VEVENT
SUMMARY:【注】ジョジョの奇妙な冒険(7) #13 愛と復讐のキ
 ッス その① / #14 愛と復讐のキッス その② / #15 ウルト
 ラセキュリティ懲罰房 / #16 看守ウエストウッドの秘密 
 / #17 燃えよ龍の夢(ドラゴンズ・ドリーム) / #18 燃えよ
 フー・ファイターズ
DTSTART;VALUE=DATE-TIME:20260424T110000Z
DTEND;VALUE=DATE-TIME:20260424T132300Z
UID:238628634177
DESCRIPTION: / #13 愛と復讐のキッス その① / #14 愛と復讐
 のキッス その② / #15 ウルトラセキュリティ懲罰房 / #16
  看守ウエストウッドの秘密 / #17 燃えよ龍の夢(ドラゴ
 ンズ・ドリーム) / #18 燃えよフー・ファイターズ / https:
 //www.youtube.com/playlist?list=PLMyQxaghEY1Gkbq5BRBU9cJGgCHRxYeIb (再生
 リスト) (プレミア公開) 【配信スケジュール】■第1話
 ～第6話 4月10日（金）20時～4月23日（木）23時59分　■第
 7話～第12話 4月17日（金）20時～4月30日（木）23時59分　
 ■第13話～第18話 4月24日（金）20時～5月7日（木）23時59
 分　■第19話～第24話 5月1日（金）20時～5月14日（木）23
 時59分　■第25話～第30話 5月8日（金）20時～5月21日（木
 ）23時59分　■第31話～第35話 5月15日（金）20時～5月28日
 （木）23時59分　■第36話～第38話 5月22日（金）20時～6
 月4日（木）23時59分 https://prtimes.jp/main/html/rd/p/000001618.000
 002610.html https://x.com/jumpch_youtube/status/2042452511332974992
LOCATION:YouTube
END:VEVENT
END:VCALENDAR
