BEGIN:VCALENDAR
VERSION:2.0
PRODID:-//chikkutakku.com//RDFCal 1.0//EN
X-WR-CALDESC:GoogleカレンダーやiCalendar形式情報を共有シェ
 アしましょう。近所のイベントから全国のイベントま
 で今日のイベント検索やスケジュールを決めるならち
 っくたっく
X-WR-CALNAME:ちっくたっく
X-WR-TIMEZONE:UTC
BEGIN:VEVENT
SUMMARY:(รองศรีไพร)ร่วมกิจกรรม ศ
 รีสะเกษพร้อมใจ นุ่งผ้าไทย
 ใส่บาตร ทำความดีวิถีพอเพี
 ยง ณ บริเวณลานโคปุระ เกาะก
 ลางน้ำ
DTSTART;VALUE=DATE-TIME:20260420T233000Z
DTEND;VALUE=DATE-TIME:20260421T003000Z
UID:239602602700
DESCRIPTION:(รองศรีไพร)ร่วมกิจกรรม
  ศรีสะเกษพร้อมใจ นุ่งผ้าไท
 ยใส่บาตร ทำความดีวิถีพอเพ
 ียง ณ บริเวณลานโคปุระ เกาะ
 กลางน้ำ
LOCATION:
END:VEVENT
END:VCALENDAR
