BEGIN:VCALENDAR
VERSION:2.0
PRODID:-//chikkutakku.com//RDFCal 1.0//EN
X-WR-CALDESC:GoogleカレンダーやiCalendar形式情報を共有シェ
 アしましょう。近所のイベントから全国のイベントま
 で今日のイベント検索やスケジュールを決めるならち
 っくたっく
X-WR-CALNAME:ちっくたっく
X-WR-TIMEZONE:UTC
BEGIN:VEVENT
SUMMARY:【剣道】第１８回全日本都道府県対抗（女子）県
 予選会
DTSTART;VALUE=DATE-TIME:20260509T040000Z
DTEND;VALUE=DATE-TIME:20260509T080000Z
UID:239623392859
DESCRIPTION:【剣道】第１８回全日本都道府県対抗（女子
 ）県予選会
LOCATION:神奈川県立武道館
END:VEVENT
END:VCALENDAR
