BEGIN:VCALENDAR
VERSION:2.0
PRODID:-//chikkutakku.com//RDFCal 1.0//EN
X-WR-CALDESC:GoogleカレンダーやiCalendar形式情報を共有シェ
 アしましょう。近所のイベントから全国のイベントま
 で今日のイベント検索やスケジュールを決めるならち
 っくたっく
X-WR-CALNAME:ちっくたっく
X-WR-TIMEZONE:UTC
BEGIN:VEVENT
SUMMARY:Harrison Tew Emergency Practice
DTSTART;VALUE=DATE:20260506
DTEND;VALUE=DATE:20260507
UID:239648443017
DESCRIPTION:08.00am           Staff (30mins)   09.00am   
         SLT (45 min)10.00am           Students (15mins)11
 .45am           Lockdown exercise (up to 45 mins\, including evacuati
 on post lockdown etc 
LOCATION:
END:VEVENT
END:VCALENDAR
