BEGIN:VCALENDAR
VERSION:2.0
PRODID:-//chikkutakku.com//RDFCal 1.0//EN
X-WR-CALDESC:GoogleカレンダーやiCalendar形式情報を共有シェ
 アしましょう。近所のイベントから全国のイベントま
 で今日のイベント検索やスケジュールを決めるならち
 っくたっく
X-WR-CALNAME:ちっくたっく
X-WR-TIMEZONE:UTC
BEGIN:VEVENT
SUMMARY:グリーティング切手「ハッピーグリーティング」
 の発行\, via 日本郵便株式会社 https://ift.tt/Wbg0qaV March 4\, 
 2026 at
DTSTART;VALUE=DATE:20260506
DTEND;VALUE=DATE:20260507
UID:239802244397
DESCRIPTION:グリーティング切手「ハッピーグリーティン
 グ」の発行\, via 日本郵便株式会社 https://ift.tt/Wbg0qaV Marc
 h 4\, 2026 at
LOCATION:
END:VEVENT
END:VCALENDAR
